BEGIN:VCALENDAR
VERSION:2.0
PRODID:-//Friends of Glasgow Botanic Gardens - ECPv6.15.20//NONSGML v1.0//EN
CALSCALE:GREGORIAN
METHOD:PUBLISH
X-ORIGINAL-URL:https://glasgowbotanicgardens.com
X-WR-CALDESC:Events for Friends of Glasgow Botanic Gardens
REFRESH-INTERVAL;VALUE=DURATION:PT1H
X-Robots-Tag:noindex
X-PUBLISHED-TTL:PT1H
BEGIN:VTIMEZONE
TZID:UTC
BEGIN:STANDARD
TZOFFSETFROM:+0000
TZOFFSETTO:+0000
TZNAME:UTC
DTSTART:20210101T000000
END:STANDARD
END:VTIMEZONE
BEGIN:VEVENT
DTSTART;TZID=UTC:20220423T110000
DTEND;TZID=UTC:20220424T160000
DTSTAMP:20260422T070819
CREATED:20220419T093805Z
LAST-MODIFIED:20220419T093805Z
UID:3625-1650711600-1650816000@glasgowbotanicgardens.com
SUMMARY:Glasgow Botanic Gardens 23rd Annual Orchid Fair 2022
DESCRIPTION:
URL:https://glasgowbotanicgardens.com/event/glasgow-botanic-gardens-23rd-annual-orchid-fair-2022/
LOCATION:Glasgow Botanic Garden Kibble Palace\, 730 Great Western Road\, Glasgow\, Select a State:\, G12 OUE\, United Kingdom
END:VEVENT
END:VCALENDAR