BEGIN:VCALENDAR
VERSION:2.0
PRODID:-//Friends of Glasgow Botanic Gardens - ECPv6.15.20//NONSGML v1.0//EN
CALSCALE:GREGORIAN
METHOD:PUBLISH
X-ORIGINAL-URL:https://glasgowbotanicgardens.com
X-WR-CALDESC:Events for Friends of Glasgow Botanic Gardens
REFRESH-INTERVAL;VALUE=DURATION:PT1H
X-Robots-Tag:noindex
X-PUBLISHED-TTL:PT1H
BEGIN:VTIMEZONE
TZID:UTC
BEGIN:STANDARD
TZOFFSETFROM:+0000
TZOFFSETTO:+0000
TZNAME:UTC
DTSTART:20210101T000000
END:STANDARD
END:VTIMEZONE
BEGIN:VEVENT
DTSTART;TZID=UTC:20220604T110000
DTEND;TZID=UTC:20220605T170000
DTSTAMP:20260422T024556
CREATED:20220601T095610Z
LAST-MODIFIED:20220601T095610Z
UID:3645-1654340400-1654448400@glasgowbotanicgardens.com
SUMMARY:Cactus and Succulent Show 2022
DESCRIPTION:The British Cactus and Succulent Society host a two day show\, with the opportunity to purchase a varied range of cacti and succulents.
URL:https://glasgowbotanicgardens.com/event/cactus-and-succulent-show-2022/
LOCATION:Kibble Palace\, Glasgow Botanic Gardens \, Select a Country:
END:VEVENT
END:VCALENDAR