BEGIN:VCALENDAR
VERSION:2.0
PRODID:-//Friends of Glasgow Botanic Gardens - ECPv6.15.20//NONSGML v1.0//EN
CALSCALE:GREGORIAN
METHOD:PUBLISH
X-ORIGINAL-URL:https://glasgowbotanicgardens.com
X-WR-CALDESC:Events for Friends of Glasgow Botanic Gardens
REFRESH-INTERVAL;VALUE=DURATION:PT1H
X-Robots-Tag:noindex
X-PUBLISHED-TTL:PT1H
BEGIN:VTIMEZONE
TZID:UTC
BEGIN:STANDARD
TZOFFSETFROM:+0000
TZOFFSETTO:+0000
TZNAME:UTC
DTSTART:20180101T000000
END:STANDARD
END:VTIMEZONE
BEGIN:VTIMEZONE
TZID:UTC
BEGIN:STANDARD
TZOFFSETFROM:+0000
TZOFFSETTO:+0000
TZNAME:UTC
DTSTART:20120101T000000
END:STANDARD
END:VTIMEZONE
BEGIN:VEVENT
DTSTART;TZID=UTC:20240607T110000
DTEND;TZID=UTC:20240607T150000
DTSTAMP:20260419T191220
CREATED:20240610T143146Z
LAST-MODIFIED:20240610T143713Z
UID:116385-1717758000-1717772400@glasgowbotanicgardens.com
SUMMARY:Glasgow Science Festival 2024
DESCRIPTION:Glasgow Science Festival is live at the Glasgow Botanic Gardens from Fri 7th to Sun 16th June.  Join us in the Kibble Palace from 11-3pm each day for loads of free activities suitable for all ages.  Get creative in the Germs Galore culture lab\, drive an underwater robot in Oban and learn about evolution while playing classic fairground games with a twist. \nActivities change daily\, so please check each day for the timetable.  More information at:  https://www.gla.ac.uk/events/sciencefestival/gsf2024/transform/botanics/  \nFriends of Glasgow Botanic Gardens will be delivering junior horticulturalist workshops where you can learn about roots and propagation during Festival weekends:  8-9th and 15-16th June.  It’s also a great time to join a free guided tour of the Gardens while you are visiting!
URL:https://glasgowbotanicgardens.com/event/glasgow-science-festival-2024/
LOCATION:Kibble Palace\, Glasgow Botanic Gardens \, Select a Country:
CATEGORIES:Children & Family,Citizen Science,Exhibition,Schools
ATTACH;FMTTYPE=image/png:https://glasgowbotanicgardens.com/wp-content/uploads/Botanics-Science-Festival-Media_802960_smxx.png
END:VEVENT
BEGIN:VEVENT
DTSTART;TZID=UTC:20240607T110000
DTEND;TZID=UTC:20240607T150000
DTSTAMP:20260419T191220
CREATED:20240610T143146Z
LAST-MODIFIED:20240610T143713Z
UID:116385-1717758000-1717772400@glasgowbotanicgardens.com
SUMMARY:Glasgow Science Festival 2024
DESCRIPTION:Glasgow Science Festival is live at the Glasgow Botanic Gardens from Fri 7th to Sun 16th June.  Join us in the Kibble Palace from 11-3pm each day for loads of free activities suitable for all ages.  Get creative in the Germs Galore culture lab\, drive an underwater robot in Oban and learn about evolution while playing classic fairground games with a twist. \nActivities change daily\, so please check each day for the timetable.  More information at:  https://www.gla.ac.uk/events/sciencefestival/gsf2024/transform/botanics/  \nFriends of Glasgow Botanic Gardens will be delivering junior horticulturalist workshops where you can learn about roots and propagation during Festival weekends:  8-9th and 15-16th June.  It’s also a great time to join a free guided tour of the Gardens while you are visiting!
URL:https://glasgowbotanicgardens.com/event/glasgow-science-festival-2024/
LOCATION:Kibble Palace\, Glasgow Botanic Gardens \, Select a Country:
CATEGORIES:Children & Family,Citizen Science,Exhibition,Schools
ATTACH;FMTTYPE=image/png:https://glasgowbotanicgardens.com/wp-content/uploads/Botanics-Science-Festival-Media_802960_smxx.png
END:VEVENT
BEGIN:VEVENT
DTSTART;TZID=UTC:20240607T110000
DTEND;TZID=UTC:20240607T150000
DTSTAMP:20260419T191220
CREATED:20240610T143146Z
LAST-MODIFIED:20240610T143713Z
UID:116385-1717758000-1717772400@glasgowbotanicgardens.com
SUMMARY:Glasgow Science Festival 2024
DESCRIPTION:Glasgow Science Festival is live at the Glasgow Botanic Gardens from Fri 7th to Sun 16th June.  Join us in the Kibble Palace from 11-3pm each day for loads of free activities suitable for all ages.  Get creative in the Germs Galore culture lab\, drive an underwater robot in Oban and learn about evolution while playing classic fairground games with a twist. \nActivities change daily\, so please check each day for the timetable.  More information at:  https://www.gla.ac.uk/events/sciencefestival/gsf2024/transform/botanics/  \nFriends of Glasgow Botanic Gardens will be delivering junior horticulturalist workshops where you can learn about roots and propagation during Festival weekends:  8-9th and 15-16th June.  It’s also a great time to join a free guided tour of the Gardens while you are visiting!
URL:https://glasgowbotanicgardens.com/event/glasgow-science-festival-2024/
LOCATION:Kibble Palace\, Glasgow Botanic Gardens \, Select a Country:
CATEGORIES:Children & Family,Citizen Science,Exhibition,Schools
ATTACH;FMTTYPE=image/png:https://glasgowbotanicgardens.com/wp-content/uploads/Botanics-Science-Festival-Media_802960_smxx.png
END:VEVENT
BEGIN:VEVENT
DTSTART;TZID=UTC:20240607T110000
DTEND;TZID=UTC:20240607T150000
DTSTAMP:20260419T191220
CREATED:20240610T143146Z
LAST-MODIFIED:20240610T143713Z
UID:116385-1717758000-1717772400@glasgowbotanicgardens.com
SUMMARY:Glasgow Science Festival 2024
DESCRIPTION:Glasgow Science Festival is live at the Glasgow Botanic Gardens from Fri 7th to Sun 16th June.  Join us in the Kibble Palace from 11-3pm each day for loads of free activities suitable for all ages.  Get creative in the Germs Galore culture lab\, drive an underwater robot in Oban and learn about evolution while playing classic fairground games with a twist. \nActivities change daily\, so please check each day for the timetable.  More information at:  https://www.gla.ac.uk/events/sciencefestival/gsf2024/transform/botanics/  \nFriends of Glasgow Botanic Gardens will be delivering junior horticulturalist workshops where you can learn about roots and propagation during Festival weekends:  8-9th and 15-16th June.  It’s also a great time to join a free guided tour of the Gardens while you are visiting!
URL:https://glasgowbotanicgardens.com/event/glasgow-science-festival-2024/
LOCATION:Kibble Palace\, Glasgow Botanic Gardens \, Select a Country:
CATEGORIES:Children & Family,Citizen Science,Exhibition,Schools
ATTACH;FMTTYPE=image/png:https://glasgowbotanicgardens.com/wp-content/uploads/Botanics-Science-Festival-Media_802960_smxx.png
END:VEVENT
BEGIN:VEVENT
DTSTART;TZID=UTC:20240607T110000
DTEND;TZID=UTC:20240607T150000
DTSTAMP:20260419T191220
CREATED:20240610T143146Z
LAST-MODIFIED:20240610T143713Z
UID:116385-1717758000-1717772400@glasgowbotanicgardens.com
SUMMARY:Glasgow Science Festival 2024
DESCRIPTION:Glasgow Science Festival is live at the Glasgow Botanic Gardens from Fri 7th to Sun 16th June.  Join us in the Kibble Palace from 11-3pm each day for loads of free activities suitable for all ages.  Get creative in the Germs Galore culture lab\, drive an underwater robot in Oban and learn about evolution while playing classic fairground games with a twist. \nActivities change daily\, so please check each day for the timetable.  More information at:  https://www.gla.ac.uk/events/sciencefestival/gsf2024/transform/botanics/  \nFriends of Glasgow Botanic Gardens will be delivering junior horticulturalist workshops where you can learn about roots and propagation during Festival weekends:  8-9th and 15-16th June.  It’s also a great time to join a free guided tour of the Gardens while you are visiting!
URL:https://glasgowbotanicgardens.com/event/glasgow-science-festival-2024/
LOCATION:Kibble Palace\, Glasgow Botanic Gardens \, Select a Country:
CATEGORIES:Children & Family,Citizen Science,Exhibition,Schools
ATTACH;FMTTYPE=image/png:https://glasgowbotanicgardens.com/wp-content/uploads/Botanics-Science-Festival-Media_802960_smxx.png
END:VEVENT
BEGIN:VEVENT
DTSTART;TZID=UTC:20240607T110000
DTEND;TZID=UTC:20240607T150000
DTSTAMP:20260419T191220
CREATED:20240610T143146Z
LAST-MODIFIED:20240610T143713Z
UID:116385-1717758000-1717772400@glasgowbotanicgardens.com
SUMMARY:Glasgow Science Festival 2024
DESCRIPTION:Glasgow Science Festival is live at the Glasgow Botanic Gardens from Fri 7th to Sun 16th June.  Join us in the Kibble Palace from 11-3pm each day for loads of free activities suitable for all ages.  Get creative in the Germs Galore culture lab\, drive an underwater robot in Oban and learn about evolution while playing classic fairground games with a twist. \nActivities change daily\, so please check each day for the timetable.  More information at:  https://www.gla.ac.uk/events/sciencefestival/gsf2024/transform/botanics/  \nFriends of Glasgow Botanic Gardens will be delivering junior horticulturalist workshops where you can learn about roots and propagation during Festival weekends:  8-9th and 15-16th June.  It’s also a great time to join a free guided tour of the Gardens while you are visiting!
URL:https://glasgowbotanicgardens.com/event/glasgow-science-festival-2024/
LOCATION:Kibble Palace\, Glasgow Botanic Gardens \, Select a Country:
CATEGORIES:Children & Family,Citizen Science,Exhibition,Schools
ATTACH;FMTTYPE=image/png:https://glasgowbotanicgardens.com/wp-content/uploads/Botanics-Science-Festival-Media_802960_smxx.png
END:VEVENT
BEGIN:VEVENT
DTSTART;TZID=UTC:20240607T110000
DTEND;TZID=UTC:20240607T150000
DTSTAMP:20260419T191220
CREATED:20240610T143146Z
LAST-MODIFIED:20240610T143713Z
UID:116385-1717758000-1717772400@glasgowbotanicgardens.com
SUMMARY:Glasgow Science Festival 2024
DESCRIPTION:Glasgow Science Festival is live at the Glasgow Botanic Gardens from Fri 7th to Sun 16th June.  Join us in the Kibble Palace from 11-3pm each day for loads of free activities suitable for all ages.  Get creative in the Germs Galore culture lab\, drive an underwater robot in Oban and learn about evolution while playing classic fairground games with a twist. \nActivities change daily\, so please check each day for the timetable.  More information at:  https://www.gla.ac.uk/events/sciencefestival/gsf2024/transform/botanics/  \nFriends of Glasgow Botanic Gardens will be delivering junior horticulturalist workshops where you can learn about roots and propagation during Festival weekends:  8-9th and 15-16th June.  It’s also a great time to join a free guided tour of the Gardens while you are visiting!
URL:https://glasgowbotanicgardens.com/event/glasgow-science-festival-2024/
LOCATION:Kibble Palace\, Glasgow Botanic Gardens \, Select a Country:
CATEGORIES:Children & Family,Citizen Science,Exhibition,Schools
ATTACH;FMTTYPE=image/png:https://glasgowbotanicgardens.com/wp-content/uploads/Botanics-Science-Festival-Media_802960_smxx.png
END:VEVENT
BEGIN:VEVENT
DTSTART;TZID=UTC:20240607T110000
DTEND;TZID=UTC:20240607T150000
DTSTAMP:20260419T191220
CREATED:20240610T143146Z
LAST-MODIFIED:20240610T143713Z
UID:116385-1717758000-1717772400@glasgowbotanicgardens.com
SUMMARY:Glasgow Science Festival 2024
DESCRIPTION:Glasgow Science Festival is live at the Glasgow Botanic Gardens from Fri 7th to Sun 16th June.  Join us in the Kibble Palace from 11-3pm each day for loads of free activities suitable for all ages.  Get creative in the Germs Galore culture lab\, drive an underwater robot in Oban and learn about evolution while playing classic fairground games with a twist. \nActivities change daily\, so please check each day for the timetable.  More information at:  https://www.gla.ac.uk/events/sciencefestival/gsf2024/transform/botanics/  \nFriends of Glasgow Botanic Gardens will be delivering junior horticulturalist workshops where you can learn about roots and propagation during Festival weekends:  8-9th and 15-16th June.  It’s also a great time to join a free guided tour of the Gardens while you are visiting!
URL:https://glasgowbotanicgardens.com/event/glasgow-science-festival-2024/
LOCATION:Kibble Palace\, Glasgow Botanic Gardens \, Select a Country:
CATEGORIES:Children & Family,Citizen Science,Exhibition,Schools
ATTACH;FMTTYPE=image/png:https://glasgowbotanicgardens.com/wp-content/uploads/Botanics-Science-Festival-Media_802960_smxx.png
END:VEVENT
BEGIN:VEVENT
DTSTART;TZID=UTC:20240607T110000
DTEND;TZID=UTC:20240607T150000
DTSTAMP:20260419T191220
CREATED:20240610T143146Z
LAST-MODIFIED:20240610T143713Z
UID:116385-1717758000-1717772400@glasgowbotanicgardens.com
SUMMARY:Glasgow Science Festival 2024
DESCRIPTION:Glasgow Science Festival is live at the Glasgow Botanic Gardens from Fri 7th to Sun 16th June.  Join us in the Kibble Palace from 11-3pm each day for loads of free activities suitable for all ages.  Get creative in the Germs Galore culture lab\, drive an underwater robot in Oban and learn about evolution while playing classic fairground games with a twist. \nActivities change daily\, so please check each day for the timetable.  More information at:  https://www.gla.ac.uk/events/sciencefestival/gsf2024/transform/botanics/  \nFriends of Glasgow Botanic Gardens will be delivering junior horticulturalist workshops where you can learn about roots and propagation during Festival weekends:  8-9th and 15-16th June.  It’s also a great time to join a free guided tour of the Gardens while you are visiting!
URL:https://glasgowbotanicgardens.com/event/glasgow-science-festival-2024/
LOCATION:Kibble Palace\, Glasgow Botanic Gardens \, Select a Country:
CATEGORIES:Children & Family,Citizen Science,Exhibition,Schools
ATTACH;FMTTYPE=image/png:https://glasgowbotanicgardens.com/wp-content/uploads/Botanics-Science-Festival-Media_802960_smxx.png
END:VEVENT
BEGIN:VEVENT
DTSTART;TZID=UTC:20240607T110000
DTEND;TZID=UTC:20240607T150000
DTSTAMP:20260419T191220
CREATED:20240610T143146Z
LAST-MODIFIED:20240610T143713Z
UID:116385-1717758000-1717772400@glasgowbotanicgardens.com
SUMMARY:Glasgow Science Festival 2024
DESCRIPTION:Glasgow Science Festival is live at the Glasgow Botanic Gardens from Fri 7th to Sun 16th June.  Join us in the Kibble Palace from 11-3pm each day for loads of free activities suitable for all ages.  Get creative in the Germs Galore culture lab\, drive an underwater robot in Oban and learn about evolution while playing classic fairground games with a twist. \nActivities change daily\, so please check each day for the timetable.  More information at:  https://www.gla.ac.uk/events/sciencefestival/gsf2024/transform/botanics/  \nFriends of Glasgow Botanic Gardens will be delivering junior horticulturalist workshops where you can learn about roots and propagation during Festival weekends:  8-9th and 15-16th June.  It’s also a great time to join a free guided tour of the Gardens while you are visiting!
URL:https://glasgowbotanicgardens.com/event/glasgow-science-festival-2024/
LOCATION:Kibble Palace\, Glasgow Botanic Gardens \, Select a Country:
CATEGORIES:Children & Family,Citizen Science,Exhibition,Schools
ATTACH;FMTTYPE=image/png:https://glasgowbotanicgardens.com/wp-content/uploads/Botanics-Science-Festival-Media_802960_smxx.png
END:VEVENT
BEGIN:VEVENT
DTSTART;TZID=UTC:20190608T110000
DTEND;TZID=UTC:20190608T150000
DTSTAMP:20260419T191220
CREATED:20190426T111108Z
LAST-MODIFIED:20190426T140108Z
UID:3300-1559991600-1560006000@glasgowbotanicgardens.com
SUMMARY:Glasgow Science Festival at the Botanics: Energy & Nature
DESCRIPTION:Discover Science at Glasgow’s Botanic Gardens. \nGlasgow Botanic Gardens \n8th June \n11:00-15:00 \nAll Ages \nDrop in \nFree \n \nJoin University of Glasgow PhD students\, University of Strathclyde engineers and biologists from the Royal Society of Biology in the Kibble Palace to explore energy and the natural world. \n\nHow can we clean up our oceans?\nHow do wind turbines work?\nAnd how can plants help address global challenges?\n\nLearn all of this and more by getting hands on. \n \n  \nFor full details go to \nhttp://www.glasgowsciencefestival.org.uk/ \nOur Science Partners for this Glasgow Science Festival Event \n \n  \n  \n  \nsponsored by
URL:https://glasgowbotanicgardens.com/event/glasgow-science-festival-at-the-botanics-energy-nature/
CATEGORIES:Exhibition,Schools,Talks & Lectures,Workshop
ATTACH;FMTTYPE=image/jpeg:https://glasgowbotanicgardens.com/wp-content/uploads/GSF-Nature-and-Kibble.jpg
END:VEVENT
BEGIN:VEVENT
DTSTART;TZID=UTC:20130611T100000
DTEND;TZID=UTC:20130611T150059
DTSTAMP:20260419T191220
CREATED:20130605T132529Z
LAST-MODIFIED:20130605T134832Z
UID:986-1370944800-1370962859@glasgowbotanicgardens.com
SUMMARY:Plants\,Life\,People
DESCRIPTION:People interact with plants on a daily basis\, often without realising it.  Join us to learn more about plants by participating in hands-on activities such as DNA extraction\, painting with pigments\, and preparing plant cuttings to take home. For more information go to http://www.glasgowsciencefestival.org.uk/events/sciencefestival/events/schools/ \nPlease book at places are limited \n 
URL:https://glasgowbotanicgardens.com/event/plantslifepeople/
LOCATION:Kibble Palace\, 730 Graet Western Road \, Glasgow\, G12OUE\, Select a Country:
CATEGORIES:Children & Family,Garden Show,Schools,Talks & Lectures
END:VEVENT
BEGIN:VEVENT
DTSTART;TZID=UTC:20130109T163000
DTEND;TZID=UTC:20130109T210059
DTSTAMP:20260419T191220
CREATED:20130103T090138Z
LAST-MODIFIED:20130103T090138Z
UID:831-1357749000-1357765259@glasgowbotanicgardens.com
SUMMARY:Discover The Stars
DESCRIPTION:Glasgow Botanic Gardens is part of the BBC Stargazing Live Discovery Night. The free event at the Botanic Gardens and the Auditorium in Oran Mor runs from 4.30pm until 9.00 pm on Wednesday 9 January 2013. Visitors will be able to take part in a variety of activities aimed at families and those with a keener interest in astronomy. There will be mini robot and comet making demonstrations on site and the chance for children to build a model of the solar system to take home. Experts will be talking about supernovae and space travel as well as offering Stargazing sessions outside in the Gardens. Due to the popularity of the activities some of the events we will be ticketed on the evening.  Further information is available at www.bbc.co.uk/thingstodo
URL:https://glasgowbotanicgardens.com/event/discover-the-stars/
LOCATION:Glasgow Botanic Gardens\, 730 Great Western Road\, Glasgow \, G12OUE\, Select a Country:
CATEGORIES:Children & Family,Garden Show,Schools,Talks & Lectures
END:VEVENT
END:VCALENDAR